BEGIN:VCALENDAR
VERSION:2.0
CALSCALE:GREGORIAN
PRODID:adamgibbons/ics
METHOD:PUBLISH
X-PUBLISHED-TTL:PT1H
BEGIN:VEVENT
UID:937@burque.fun
SUMMARY:Half Moon Zine Market
DTSTAMP:20260421T102830Z
DTSTART:20260502T000000Z
DTEND:20260502T030000Z
URL:https://burque.fun/event/half-moon-zine-market
LOCATION:Patio San Felipe Del Norte - 400 San Felipe NW
STATUS:CONFIRMED
CATEGORIES:art,coffee,live music,market,tarot,trade,workshops,zine makers,z
	ines
END:VEVENT
BEGIN:VEVENT
UID:971@burque.fun
SUMMARY:John Brown Breakfast Club Cookout
DTSTAMP:20260421T102830Z
DTSTART:20260509T193000Z
URL:https://burque.fun/event/john-brown-breakfast-club-cookout
LOCATION:Roosevelt Park - 500 Spruce St SE\, Albuquerque\, NM 87106
STATUS:CONFIRMED
CATEGORIES:education,food,fundraising,harm reduction,live music,mutual aid
END:VEVENT
END:VCALENDAR
